BEGIN:VCALENDAR
VERSION:2.0
PRODID:-//MannsForum - ECPv6.15.20//NONSGML v1.0//EN
CALSCALE:GREGORIAN
METHOD:PUBLISH
X-WR-CALNAME:MannsForum
X-ORIGINAL-URL:https://mannsforum.no
X-WR-CALDESC:Events for MannsForum
REFRESH-INTERVAL;VALUE=DURATION:PT1H
X-Robots-Tag:noindex
X-PUBLISHED-TTL:PT1H
BEGIN:VTIMEZONE
TZID:Europe/Oslo
BEGIN:DAYLIGHT
TZOFFSETFROM:+0100
TZOFFSETTO:+0200
TZNAME:CEST
DTSTART:20240331T010000
END:DAYLIGHT
BEGIN:STANDARD
TZOFFSETFROM:+0200
TZOFFSETTO:+0100
TZNAME:CET
DTSTART:20241027T010000
END:STANDARD
BEGIN:DAYLIGHT
TZOFFSETFROM:+0100
TZOFFSETTO:+0200
TZNAME:CEST
DTSTART:20250330T010000
END:DAYLIGHT
BEGIN:STANDARD
TZOFFSETFROM:+0200
TZOFFSETTO:+0100
TZNAME:CET
DTSTART:20251026T010000
END:STANDARD
BEGIN:DAYLIGHT
TZOFFSETFROM:+0100
TZOFFSETTO:+0200
TZNAME:CEST
DTSTART:20260329T010000
END:DAYLIGHT
BEGIN:STANDARD
TZOFFSETFROM:+0200
TZOFFSETTO:+0100
TZNAME:CET
DTSTART:20261025T010000
END:STANDARD
END:VTIMEZONE
BEGIN:VEVENT
DTSTART;TZID=Europe/Oslo:20250303T190000
DTEND;TZID=Europe/Oslo:20250303T200000
DTSTAMP:20260422T105712
CREATED:20250224T144307Z
LAST-MODIFIED:20250225T130104Z
UID:13963-1741028400-1741032000@mannsforum.no
SUMMARY:Mandagsmøter første mandag hver mnd.
DESCRIPTION:✨ Medlemsmøte – Første mandag i måneden! 📅 Fysisk og online. 📲🏢 \n\n\n\nMannsForum arrangerer faste medlemsmøter den første mandagen i hver måned. Dette er en trygg og fortrolig arena hvor vi diskuterer aktuelle saker\, deler erfaringer og bygger et sterkt fellesskap. ✨🌟 \n\n\n\nHva kan du forvente?\n\n\n\n\n💬 Engasjerende samtaler om menns rettigheter og samfunnsspørsmål.\n\n\n\n👨‍👧‍👦 Erfaringsutveksling i et trygt og inkluderende miljø.\n\n\n\n❓ Mulighet til å stille spørsmål og bidra med egne innspill.\n\n\n\n\nEtter det offisielle møtet blir ofte flere sittende igjen for uformelle samtaler\, spesielt online. 🔗 Mange blir sittende til sent på kvelden\, noe som gir en god mulighet til å bli kjent med andre som har erfaringer med systemutfordringer og lignende situasjoner. \n\n\n\n📧 Invitasjon med tidspunkt og lenke sendes på e-post til alle medlemmer\, og informasjon legges ut i våre lokale Facebook-grupper. 📻 (Husk å sjekke ditt  spamfilter) \n\n\n\n🌟 Er du ikke medlem enda? Meld deg inn i dag og bli en del av fellesskapet! 👨‍👩‍👦👤 \n\n\n\nBli medlem her \n\n\n\nVår facebook side for medlemmer finner du her.Vår facebook side “MannsForum åpne debattforum” finner du her.Vår hovedside på FaceBook finner du her.
URL:https://mannsforum.no/arrangement/mandagsmoter-forste-mandag-hver-mnd/
END:VEVENT
END:VCALENDAR