BEGIN:VCALENDAR
VERSION:2.0
PRODID:-//MannsForum - ECPv6.15.20//NONSGML v1.0//EN
CALSCALE:GREGORIAN
METHOD:PUBLISH
X-WR-CALNAME:MannsForum
X-ORIGINAL-URL:https://mannsforum.no
X-WR-CALDESC:Events for MannsForum
REFRESH-INTERVAL;VALUE=DURATION:PT1H
X-Robots-Tag:noindex
X-PUBLISHED-TTL:PT1H
BEGIN:VTIMEZONE
TZID:Europe/Oslo
BEGIN:DAYLIGHT
TZOFFSETFROM:+0100
TZOFFSETTO:+0200
TZNAME:CEST
DTSTART:20240331T010000
END:DAYLIGHT
BEGIN:STANDARD
TZOFFSETFROM:+0200
TZOFFSETTO:+0100
TZNAME:CET
DTSTART:20241027T010000
END:STANDARD
BEGIN:DAYLIGHT
TZOFFSETFROM:+0100
TZOFFSETTO:+0200
TZNAME:CEST
DTSTART:20250330T010000
END:DAYLIGHT
BEGIN:STANDARD
TZOFFSETFROM:+0200
TZOFFSETTO:+0100
TZNAME:CET
DTSTART:20251026T010000
END:STANDARD
BEGIN:DAYLIGHT
TZOFFSETFROM:+0100
TZOFFSETTO:+0200
TZNAME:CEST
DTSTART:20260329T010000
END:DAYLIGHT
BEGIN:STANDARD
TZOFFSETFROM:+0200
TZOFFSETTO:+0100
TZNAME:CET
DTSTART:20261025T010000
END:STANDARD
END:VTIMEZONE
BEGIN:VEVENT
DTSTART;TZID=Europe/Oslo:20250315T100000
DTEND;TZID=Europe/Oslo:20250315T140000
DTSTAMP:20260422T133733
CREATED:20250221T180417Z
LAST-MODIFIED:20250311T213346Z
UID:13906-1742032800-1742047200@mannsforum.no
SUMMARY:Rettssikkerhet og barnets beste – uforenlige hensyn?
DESCRIPTION:Sett av 15. mars – et seminar du ikke vil gå glipp av! (Gratis)MannsForum og PASG Norge inviterer til en viktig konferanse. \n\n\n\nMannsForum og PASG Norge arrangerer i fellesskap et seminar som setter søkelyset på noen av de såreste og vanskeligste punkter som gjelder tvister om barn. Alle er enige om at barnets beste skal være styrende for avgjørelser om bosted og samvær. Men mange opplever at dette i praksis kan bety at deres og barnas rettssikkerhet blir ofret. Hvis en beskyldning om vold eller overgrep legges til grunn uten bevis – for å være på den «sikre siden» – kan det bety at en forelder blir uskyldig stemplet som voldsutøver og blir frarøvet kontakt med barnet sitt.  \n\n\n\nEr dette akseptabelt i et rettssamfunn? Og er det til barnets beste? Hvis det dessuten ikke er noen form for reaksjon\, selv mot de som bevisst leverer falske anmeldelser for å vinne fram i kampen om barna\, kan en da si at samfunnet legger til rette for at systemet misbrukes? Hva bør gjøres? Trenger vi andre lover og endret myndighetspraksis? \n\n\n\nVi har fått en rekke engasjerte og dyktige fagfolk med oss til å belyse disse spørsmålene. \n\n\n\nSeminaret finner sted på Litteraturhuset i Oslo den 15. mars fra kl 10-14. Det er gratis og åpent for alle\, men du må melde deg på som deltager her.Møte- og debattleder er Geir Furuseth\, mangeårig journalist med bakgrunn fra en rekke medier. I ferd med å ferdigstille en bok om «Barn med ukjente fedre og fedre med ukjente barn.» En smakebit er publisert her: https://www.youtube.com/watch?v=vM613Nc0YJQ \n\n\n\nLast ned fullt program her. \n\n\n\n \n\n\n\n📅 Dato: 15. mars 2025⏰ Tid: 10:00 – 14:00📍 Sted: Skram-salen\, Litteraturhuset\, Oslo🎟 Gratis inngang (bindende påmelding)
URL:https://mannsforum.no/arrangement/rettssikkerhet-og-barnets-beste-uforenlige-hensyn/
ATTACH;FMTTYPE=image/jpeg:https://mannsforum.no/wp-content/uploads/2025/02/07fd99fb-830d-4f92-8c9d-6cce1e6893a2.jpg
END:VEVENT
END:VCALENDAR