BEGIN:VCALENDAR
VERSION:2.0
PRODID:-//MannsForum - ECPv6.15.20//NONSGML v1.0//EN
CALSCALE:GREGORIAN
METHOD:PUBLISH
X-WR-CALNAME:MannsForum
X-ORIGINAL-URL:https://mannsforum.no
X-WR-CALDESC:Events for MannsForum
REFRESH-INTERVAL;VALUE=DURATION:PT1H
X-Robots-Tag:noindex
X-PUBLISHED-TTL:PT1H
BEGIN:VTIMEZONE
TZID:Europe/Oslo
BEGIN:DAYLIGHT
TZOFFSETFROM:+0100
TZOFFSETTO:+0200
TZNAME:CEST
DTSTART:20220327T010000
END:DAYLIGHT
BEGIN:STANDARD
TZOFFSETFROM:+0200
TZOFFSETTO:+0100
TZNAME:CET
DTSTART:20221030T010000
END:STANDARD
BEGIN:DAYLIGHT
TZOFFSETFROM:+0100
TZOFFSETTO:+0200
TZNAME:CEST
DTSTART:20230326T010000
END:DAYLIGHT
BEGIN:STANDARD
TZOFFSETFROM:+0200
TZOFFSETTO:+0100
TZNAME:CET
DTSTART:20231029T010000
END:STANDARD
BEGIN:DAYLIGHT
TZOFFSETFROM:+0100
TZOFFSETTO:+0200
TZNAME:CEST
DTSTART:20240331T010000
END:DAYLIGHT
BEGIN:STANDARD
TZOFFSETFROM:+0200
TZOFFSETTO:+0100
TZNAME:CET
DTSTART:20241027T010000
END:STANDARD
END:VTIMEZONE
BEGIN:VEVENT
DTSTART;TZID=Europe/Oslo:20231118T100000
DTEND;TZID=Europe/Oslo:20231118T160000
DTSTAMP:20260425T162442
CREATED:20231028T150045Z
LAST-MODIFIED:20231104T112536Z
UID:12560-1700301600-1700323200@mannsforum.no
SUMMARY:Mannsdagen 2023
DESCRIPTION:Foto: Kenneth Bamberg \n\n\n\n\n\nÅrets tema: Menns utenforskap\n\n\n\nSted: Litteraturhuset i Oslo\, Wergelandsveien 29\, 0167 Oslo (Skram-salen) \n\n\n\nVår møteleder for dagen er TV-personlighet og samfunnsdebattant\, Gaute Grøtta Grav. \n\n\n\nMannsForum arrangerer årlig en nasjonal likestillingskonferanse på Mannsdagen for å sette gutter\, menn og fedres livs- og likestillingsutfordringer på dagsorden. Vi ønsker å belyse problemer\, drøfte årsaker og konsekvenser\, og finne løsninger. \n\n\n\nMannsdagen 2023 setter søkelyset på menns utenforskap i Norge. I løpet av dagen vil det være spennende foredrag og diskusjoner som tar for seg ulike aspekter av utenforskap. Vi ønsker å utforske emner som menns helse\, utdanning\, familieliv\, følelsesmessig velvære og yrkesliv\, samt hvordan vi kan skape et samfunn der menns utfordringer blir møtt med empati\, forståelse og støtte. \n\n\n\nLast ned hele programmet her \n\n\n\nTil Litteraturhusets landingsside for arrangementet \n\n\n\n\n\nProgram\n\n\n\nDel 1: Likestilling\, kultur og ukultur\n\n\n\n10:00Velkommen ved Arne BørkeLeder i MannsForum og medlem i Mannsutvalget \n\n\n\n10:05Gaute Grøtta GravÅpning ved konferansier Gaute Grøtta Grav.  \n\n\n\nGaute er tv-personlighet og en tydelig samfunnsdebattant. Han har markert seg med sin støtte til gutter og menn gjennom politisk arbeid og media. \n\n\n\n10:15Kenneth BambergEn visuell fortelling om maskulinitet.  \n\n\n\nBamberg er en anerkjent\, finsk kunstner som utforsker maskulinitet med humor\, varme og tragedie. Han har mottatt en rekke utmerkelser\, blant annet Finlands viktigste likestillingspris. \n\n\n\n10:45Oscar Emil Landa«Vinteråpne campinghytter».  \n\n\n\nMasterstudent ved Universitetet i Sørøst-Norge om MannsForums opplevelser av likestillingspolitikken og -debatten. \n\n\n\n11:00Kari Kaldestad«Paternal Alienation»; banebrytende norsk forskning om tap av fedrerolle. \n\n\n\nFørsteamanuensis i sykepleievitenskap ved UiS. Premiere; første presentasjon utenfor fagmiljøet av hennes nylig publiserte\, banebrytende forskningsrapport. \n\n\n\n11:25Claus Moxness JervellMannsutvalgets arbeid så langt\, og veien videre.  \n\n\n\nFaglig sekretær i Fellesforbundet og leder av Mannsutvalget informerer om Mannsutvalgets arbeid så langt\, temaer diskutert og ikke minst hvordan utnytte arbeidet etter ferdigstillelse. \n\n\n\n11:45Kaffe og lunsj \n\n\n\nDel 2: Kjønnsdebatten: Likeverd eller maktkamp?\n\n\n\n12:15Pål-Henrik HagenLa oss ikke gjøre menn til enda en utsatt gruppe som krever spesialbehandling.  \n\n\n\nLikestillingsfilosof\, samfunnsdebattant og skribent for Subjekt. \n\n\n\n12:30Adam NjåMenn i dameland.  \n\n\n\nPsykolog-student og samfunnsdebattant. Startet sommerens store kjønnsdebatt med kronikken Menn i Dameland på nrk.no. \n\n\n\n12:45Synnøve Vereide TrampeKjønnskamp i blinde.  \n\n\n\nJournalist i Dagsavisen og aktiv i kjønnsdebatten. \n\n\n\n \n\n\n\n13:00Sylo TarakuIngen gråter for menn.  \n\n\n\nStatsviter\, forfatter\, rådgiver i tankesmien Agenda\, medlem i Mannsutvalget. \n\n\n\n13:15Erlend HanstveitPolitikk og tiltak for å motvirke kjønnsubalanse.  \n\n\n\nStatssekretær i Kultur og Likestillingdepartementet. Hvordan påvirker den moderne kjønnsubalansen samfunnet\, sett fra departementet? \n\n\n\n13.30Paneldebatt \n\n\n\n\nGaute Grøtta Grav – Dagens møteleder\n\n\n\nSynnøve Vereide Trampe – Journalist i Dagsavisen\n\n\n\nAdam Njå – Psykolog student og samfunnsdebattant \n\n\n\nKenneth Bamberg – Kunstner\n\n\n\nSylo Taraku – Statsviter\, forfatter\, rådgiver\n\n\n\nPål-Henrik Hagen – Likestillingsfilosof og skribent\n\n\n\n\n13:55Kaffe og snacks \n\n\n\nDel 3: Verdens mest likestilte land?\n\n\n\n14:20Berit Lund KoksvikRettsikkerhet eller ulikhet for loven?  \n\n\n\nLikestilt lovgivning er ikke likestilt med mindre vi anvender loven slik den er tiltenkt. Berit har spesialisering i bl.a. politirett og vold i nære relasjoner. \n\n\n\n14:40Johan Kristian RudMannsForums Likestillingsbarometer med mannsperspektiv.  \n\n\n\nRevidert og utvidet barometer presenteres av Likestillingsgruppa ved Johan K. Rud\, styremedlem i MannsForum. \n\n\n\n14:50Ole-Petter OlsenLeder av Kamerathjelpen presenterer formål og tjenester. \n\n\n\nKamerathjelpen er MannsForums likemannsarbeid gir støtte isamlivsbrudd og i møte med det offentlige. \n\n\n\n14:55Ole Johan RosenstrømNestleder av Kamerathjelpen presenterer årets aktiviteter og planer fremover. \n\n\n\n15:00PrisutdelingUtdeling av Dag Furuholmens Litteraturpris.Utdeling av MannsForums Manns- og kvinnepriser. \n\n\n\n15:25SosialtSosialt samvær
URL:https://mannsforum.no/arrangement/mannsdagen-2023/
ATTACH;FMTTYPE=image/png:https://mannsforum.no/wp-content/uploads/2023/10/Screenshot-2023-10-28-at-16-34-37-23036-MV-Mannsforum-2023-program-A4-v2-1.pdf.png
ORGANIZER;CN="MannsForum":MAILTO:post@mannsforum.no
END:VEVENT
END:VCALENDAR