BEGIN:VCALENDAR
VERSION:2.0
PRODID:-//MannsForum - ECPv6.15.20//NONSGML v1.0//EN
CALSCALE:GREGORIAN
METHOD:PUBLISH
X-ORIGINAL-URL:https://mannsforum.no
X-WR-CALDESC:Events for MannsForum
REFRESH-INTERVAL;VALUE=DURATION:PT1H
X-Robots-Tag:noindex
X-PUBLISHED-TTL:PT1H
BEGIN:VTIMEZONE
TZID:Europe/Oslo
BEGIN:DAYLIGHT
TZOFFSETFROM:+0100
TZOFFSETTO:+0200
TZNAME:CEST
DTSTART:20240331T010000
END:DAYLIGHT
BEGIN:STANDARD
TZOFFSETFROM:+0200
TZOFFSETTO:+0100
TZNAME:CET
DTSTART:20241027T010000
END:STANDARD
BEGIN:DAYLIGHT
TZOFFSETFROM:+0100
TZOFFSETTO:+0200
TZNAME:CEST
DTSTART:20250330T010000
END:DAYLIGHT
BEGIN:STANDARD
TZOFFSETFROM:+0200
TZOFFSETTO:+0100
TZNAME:CET
DTSTART:20251026T010000
END:STANDARD
BEGIN:DAYLIGHT
TZOFFSETFROM:+0100
TZOFFSETTO:+0200
TZNAME:CEST
DTSTART:20260329T010000
END:DAYLIGHT
BEGIN:STANDARD
TZOFFSETFROM:+0200
TZOFFSETTO:+0100
TZNAME:CET
DTSTART:20261025T010000
END:STANDARD
END:VTIMEZONE
BEGIN:VEVENT
DTSTART;TZID=Europe/Oslo:20251122T094500
DTEND;TZID=Europe/Oslo:20251122T163000
DTSTAMP:20260423T005313
CREATED:20250221T182432Z
LAST-MODIFIED:20251124T062243Z
UID:13913-1763804700-1763829000@mannsforum.no
SUMMARY:Mannsdagskonferansen 2025
DESCRIPTION:Maskulinitet i forandring:\n\n\n\nHva er en god nok mann?\n\n\n\n\n\n\n\nMaskuliniteten og samfunnskontrakten – hva forventer samfunnet av den moderne mannen\, og hva kan den moderne mannen forvente av samfunnet? \n\n\n\n\n\n\n\nBli med på en dag fylt med dialog\, inspirasjon og handling for likestilling og likeverdig foreldreskap! Opplev engasjerende foredrag\, paneldebatt med politikere og utdeling av Mannsprisen\, Kvinneprisen og Dag Furuholmens Litteraturpris. Delta fysisk på Litteraturhuset eller via virtuell livestream. \n\n\n\nInvitasjon til Mannsdagskonferansen 2025 \n\n\n\n📅 Dato: 22. november 2025⏰ Tid: 10:00 – 16:30📍 Sted: Litteraturhuset\, rom Wergeland🎥 Digital deltakelse: Link sendes til de påmeldte når den er klar. MERK: Deler av innholdet kan være forbeholdt fysisk tilstedeværende. \n\n\n\n \n\n\n\n \n\n\n\nVi inviterer deg til Mannsdagskonferansen 2025 – en arena for dialog\, inspirasjon og handling! Sammen tar vi et nytt steg for likestilling\, likeverdig foreldreskap og rettferdige muligheter for alle. \n\n\n\n Hva skjer på konferansen?Med overskriften ‘Maskulinitet i forandring – hva er en god nok mann?‘ og undertittelen ‘Hva forventer samfunnet av menn\, og hva kan menn forvente av samfunnet?‘\, inviterer Mannsdagskonferansen 2025 til kritisk diskusjon om samfunnskontrakten for menn i Norge. I en tid preget av raske samfunnsendringer\, nye lovverk og intense likestillingsdebatter\, oppstår fundamentale spørsmål om menns rolle\, ansvar og rettigheter. Vi vil belyse hvordan lovendringer og polariserte fremstillinger har satt søkelys på utfordringer som kan oppleves som motkrefter til likeverd. Vi skal se litt på konsekvensene det får for menn\, og hvordan det kan oppleves fra mannsperspektiv. Også i år vil vi hedre de som gjør en forskjell med utdeling av:– Mannsprisen– Kvinneprisen– Dag Furuholmens Litteraturpris \n\n\n\n \n\n\n\n– Inspirasjon og innsikt:Vi byr på engasjerende foredrag og innlegg som utfordrer og inspirerer. Som i fjor ønsker vi også en paneldebatt der politikere deltar for å diskutere viktige temaer knyttet til likestilling og foreldreskap. Vi har invitert ungdomspartiledere for å debattere fremtidens politikk for likeverd. \n\n\n\n– Større kapasitet:Vi dobler kapasiteten i år for å gi plass til enda flere som ønsker å bidra til endring. \n\n\n\n Hvorfor være med?Enten du er en engasjert forkjemper for likestilling eller ønsker å lære mer\, er dette dagen for deg. Vi fortsetter arbeidet med å skape oppmerksomhet rundt menns og gutters utfordringer\, samtidig som vi anerkjenner alle som bidrar til et mer rettferdig samfunn. \n\n\n\n— \n\n\n\nLast ned fullt program her
URL:https://mannsforum.no/arrangement/mannsdagskonferansen-2025/
ATTACH;FMTTYPE=image/png:https://mannsforum.no/wp-content/uploads/2025/10/Tema-full-4K.png
END:VEVENT
END:VCALENDAR